BEGIN:VCALENDAR
VERSION:2.0
PRODID:-//Glasgow Skeptics - ECPv4.5.8//NONSGML v1.0//EN
CALSCALE:GREGORIAN
METHOD:PUBLISH
X-WR-CALNAME:Glasgow Skeptics
X-ORIGINAL-URL:https://glasgowskeptics.com
X-WR-CALDESC:Events for Glasgow Skeptics
BEGIN:VEVENT
DTSTART;TZID=Europe/London:20180507T190000
DTEND;TZID=Europe/London:20180507T210000
DTSTAMP:20260419T192101
CREATED:20180408T212219Z
LAST-MODIFIED:20180408T212219Z
UID:1894-1525716000-1525723200@glasgowskeptics.com
SUMMARY:Glasgow Skeptics visit Café Scientifique: Poetry\, Physics and Computing
DESCRIPTION:So we don’t have an official Glasgow Skeptics event on this date … but our friends over in Cafe Scientifique have got something to tickle your fancy instead. \nThis month’s topic: Poetry\, Physics and Computing \nFor more information about Café Scientifique:\nVisit their website: http://www.gla.ac.uk/events/cafescientifique/ \nThe talk is free – although they do ask for donations \nAccessibility information for the venue can be found here: https://www.disabledgo.com/access-guide/glasgow-city-council/waterstones-3 \n
URL:https://glasgowskeptics.com/event/glasgow-skeptics-visit-cafe-scientifique-poetry-physics-computing
LOCATION:163-157 Sauchiehall Street\, Glasgow\, G2 3EW\, United Kingdom
ATTACH;FMTTYPE=image/png:https://glasgowskeptics.com/wp-content/uploads/2018/04/z_cafe-sci_eb.png
END:VEVENT
END:VCALENDAR